BEGIN:VCALENDAR
VERSION:2.0
PRODID:-//The Carterhaugh School of Folklore and the Fantastic - ECPv6.15.17//NONSGML v1.0//EN
CALSCALE:GREGORIAN
METHOD:PUBLISH
X-ORIGINAL-URL:https://carterhaughschool.com
X-WR-CALDESC:Events for The Carterhaugh School of Folklore and the Fantastic
REFRESH-INTERVAL;VALUE=DURATION:PT1H
X-Robots-Tag:noindex
X-PUBLISHED-TTL:PT1H
BEGIN:VTIMEZONE
TZID:America/New_York
BEGIN:DAYLIGHT
TZOFFSETFROM:-0500
TZOFFSETTO:-0400
TZNAME:EDT
DTSTART:20250309T070000
END:DAYLIGHT
BEGIN:STANDARD
TZOFFSETFROM:-0400
TZOFFSETTO:-0500
TZNAME:EST
DTSTART:20251102T060000
END:STANDARD
BEGIN:DAYLIGHT
TZOFFSETFROM:-0500
TZOFFSETTO:-0400
TZNAME:EDT
DTSTART:20260308T070000
END:DAYLIGHT
BEGIN:STANDARD
TZOFFSETFROM:-0400
TZOFFSETTO:-0500
TZNAME:EST
DTSTART:20261101T060000
END:STANDARD
BEGIN:DAYLIGHT
TZOFFSETFROM:-0500
TZOFFSETTO:-0400
TZNAME:EDT
DTSTART:20270314T070000
END:DAYLIGHT
BEGIN:STANDARD
TZOFFSETFROM:-0400
TZOFFSETTO:-0500
TZNAME:EST
DTSTART:20271107T060000
END:STANDARD
END:VTIMEZONE
BEGIN:VEVENT
DTSTART;TZID=America/New_York:20260312T190000
DTEND;TZID=America/New_York:20260312T200000
DTSTAMP:20260422T021329
CREATED:20260209T164656Z
LAST-MODIFIED:20260209T164656Z
UID:8369-1773342000-1773345600@carterhaughschool.com
SUMMARY:The March Book Club - Cinder House by Freya Marske
DESCRIPTION:Join us on March 12th at 7PM ET to discuss Freya Marske’s fascinating novella\, Cinder House! This Gothic “Cinderella” retelling delighted us with its originality\, and we can’t wait to talk about it with you! \nHere’s the publisher’s description: \n“Ella is a haunting. \nMurdered at sixteen\, her ghost is furiously trapped in her father’s house\, invisible to everyone except her stepmother and stepsisters. \nEven when she discovers how to untether herself from her prison\, there are limits. She cannot be seen or heard by the living people who surround her. Her family must never learn she is able to leave. And at the stroke of every midnight\, she finds herself back on the staircase where she died. \nUntil she forges a wary friendship with a fairy charm-seller\, and makes a bargain for three nights of almost-living freedom. Freedom that means she can finally be seen. Danced with. Touched. \nYou think you know Ella’s story: the ball\, the magical shoes\, the handsome prince. \nYou’re halfway right\, and all-the-way wrong. \nAnd here are a few reviews: \n“A fairy tale by way of Shirley Jackson… dark and appropriately haunting.”―The New York Times \n“Gorgeous\, whimsical\, romantic\, and bittersweet\, Cinder House both whisks you away and holds you over a flame. I was bespelled.”―Ava Reid\, #1 New York Times bestselling author \n“Absolutely delightful. One of the most unusual fairy-tale retellings I’ve seen in a hen’s age. I enjoyed it enormously!”―T. Kingfisher\, New York Times bestselling author \n“An incredibly unique and shadowy ‘Cinderella’ retelling\, full of tenderness and whimsy and featuring a heroine who cannot help but haunt readers.”―Library Journal (starred review) \n“This novella impresses from its chilling opening to its inspired\, polyamorous take on happily ever after. Lovers of fairy-tale retellings\, gothic fantasy\, and fierce queer joy will be enchanted.”―Booklist (starred review) \nIf you would like to join us\, make sure you’re on the $7+ tier on our Patreon for the month of March!
URL:https://carterhaughschool.com/event/the-march-book-club-cinder-house-by-freya-marske/
LOCATION:Zoom
CATEGORIES:Book Club
ATTACH;FMTTYPE=image/jpeg:https://carterhaughschool.com/wp-content/uploads/2026/02/Cinder-House-Book-Club.jpg
END:VEVENT
END:VCALENDAR