BEGIN:VCALENDAR
VERSION:2.0
PRODID:-//The Carterhaugh School of Folklore and the Fantastic - ECPv6.15.17//NONSGML v1.0//EN
CALSCALE:GREGORIAN
METHOD:PUBLISH
X-WR-CALNAME:The Carterhaugh School of Folklore and the Fantastic
X-ORIGINAL-URL:https://carterhaughschool.com
X-WR-CALDESC:Events for The Carterhaugh School of Folklore and the Fantastic
REFRESH-INTERVAL;VALUE=DURATION:PT1H
X-Robots-Tag:noindex
X-PUBLISHED-TTL:PT1H
BEGIN:VTIMEZONE
TZID:America/New_York
BEGIN:DAYLIGHT
TZOFFSETFROM:-0500
TZOFFSETTO:-0400
TZNAME:EDT
DTSTART:20200308T070000
END:DAYLIGHT
BEGIN:STANDARD
TZOFFSETFROM:-0400
TZOFFSETTO:-0500
TZNAME:EST
DTSTART:20201101T060000
END:STANDARD
BEGIN:DAYLIGHT
TZOFFSETFROM:-0500
TZOFFSETTO:-0400
TZNAME:EDT
DTSTART:20210314T070000
END:DAYLIGHT
BEGIN:STANDARD
TZOFFSETFROM:-0400
TZOFFSETTO:-0500
TZNAME:EST
DTSTART:20211107T060000
END:STANDARD
BEGIN:DAYLIGHT
TZOFFSETFROM:-0500
TZOFFSETTO:-0400
TZNAME:EDT
DTSTART:20220313T070000
END:DAYLIGHT
BEGIN:STANDARD
TZOFFSETFROM:-0400
TZOFFSETTO:-0500
TZNAME:EST
DTSTART:20221106T060000
END:STANDARD
BEGIN:DAYLIGHT
TZOFFSETFROM:-0500
TZOFFSETTO:-0400
TZNAME:EDT
DTSTART:20230312T070000
END:DAYLIGHT
BEGIN:STANDARD
TZOFFSETFROM:-0400
TZOFFSETTO:-0500
TZNAME:EST
DTSTART:20231105T060000
END:STANDARD
END:VTIMEZONE
BEGIN:VEVENT
DTSTART;TZID=America/New_York:20220420T190000
DTEND;TZID=America/New_York:20220420T200000
DTSTAMP:20260422T062423
CREATED:20220328T192259Z
LAST-MODIFIED:20220328T192259Z
UID:5782-1650481200-1650484800@carterhaughschool.com
SUMMARY:The April Book Club - The Last Unicorn by Peter S. Beagle
DESCRIPTION:Our Patreon book club is reading The Last Unicorn by Peter S. Beagle this month! Our meeting will be April 20th at 7PM ET. Check Patreon for the link to join us closer to the date of the event if you’ve pledged at a $7+ tier! \n\nThis is one of Brittany’s ALL TIME favorites\, so we’re especially excited about this one!
URL:https://carterhaughschool.com/event/the-april-book-club-the-last-unicorn-by-peter-s-beagle/
LOCATION:Crowdcast
CATEGORIES:Book Club
ATTACH;FMTTYPE=image/jpeg:https://carterhaughschool.com/wp-content/uploads/2022/03/thelastunicorn-bookclubimage.jpg
END:VEVENT
BEGIN:VEVENT
DTSTART;TZID=America/New_York:20220321T190000
DTEND;TZID=America/New_York:20220321T200000
DTSTAMP:20260422T062423
CREATED:20220301T001106Z
LAST-MODIFIED:20220301T001106Z
UID:5696-1647889200-1647892800@carterhaughschool.com
SUMMARY:The March Book Club - Carry On by Rainbow Rowell
DESCRIPTION:Hi all!  \nOur book club pick for March is Rainbow Rowell’s Harry Potter send-up Carry On – we’re really looking forward to this funny read! \nHere are some things people have said about it –  \n“Thrilling and sexy\, funny and shocking\, deeply moving and very\, very magical. Trust me\, you have never\, ever seen a wizard school like this.” Lev Grossman\, author of The Magicians \n“Full of heart and humor\, this fantastical tale is a worthy addition to the wizarding school genre.” People Magazine \nWe’ll be meeting on March 21st at 7PM ET – hope to see you there!
URL:https://carterhaughschool.com/event/the-march-book-club-carry-on-by-rainbow-rowell/
LOCATION:Crowdcast
CATEGORIES:Book Club
ATTACH;FMTTYPE=image/jpeg:https://carterhaughschool.com/wp-content/uploads/2022/02/CarryOnEvent.jpg
END:VEVENT
BEGIN:VEVENT
DTSTART;TZID=America/New_York:20220221T190000
DTEND;TZID=America/New_York:20220221T200000
DTSTAMP:20260422T062423
CREATED:20220218T230653Z
LAST-MODIFIED:20220218T230721Z
UID:5668-1645470000-1645473600@carterhaughschool.com
SUMMARY:The February Book Club - Good Omens by Neil Gaiman and Terry Pratchett
DESCRIPTION:Join us on February 21st at 7PM ET to discuss Neil Gaiman and Terry Pratchett’s novel Good Omens. \nThis novel likely needs no introduction\, but in a nutshell\, it’s about an angel and a demon teaming up to avert the End Times. It’s deeply weird\, incredibly funny\, and an absolute icon of the fantasy genre. \nIt’s a sheer delight\, and we can’t wait to talk with you about it! \nTo join us\, make sure you’re on the Willow tier or higher on our Patreon!
URL:https://carterhaughschool.com/event/the-february-book-club-good-omens-by-neil-gaiman-and-terry-pratchett/
LOCATION:Crowdcast
CATEGORIES:Book Club
ATTACH;FMTTYPE=image/jpeg:https://carterhaughschool.com/wp-content/uploads/2022/02/goodomenscover.jpg
END:VEVENT
BEGIN:VEVENT
DTSTART;TZID=America/New_York:20220118T190000
DTEND;TZID=America/New_York:20220118T200000
DTSTAMP:20260422T062423
CREATED:20211222T211940Z
LAST-MODIFIED:20220103T173840Z
UID:5543-1642532400-1642536000@carterhaughschool.com
SUMMARY:The January Book Club - The Seventh Bride by T. Kingfisher
DESCRIPTION:Join us on January 18th at 7PM ET to discuss T. Kingfisher’s novel The Seventh Bride!  \n\nThe Seventh Bride is a Bluebeard retelling\, but it’s also so much more – it brilliantly plays with all kinds of familiar fairy-tale tropes and centralizes the importance of female friendship and support. \n\nAlso\, it’s wildly creative\, decidedly creepy\, and weirdly heart-warming at times. \n\nIf this isn’t enough to convince you\, T. Kingfisher (the pen name Ursula Vernon uses to distinguish her more adult-themed work from the children’s lit and middle grade she publishes under her legal name) won TWO Hugo awards last week\, which is amazing and super well-deserved! \n\nNPR compares The Seventh Bride favorably to Peter Beagle and Diana Wynne Jones\, writing:  \n\n“Stylistically\, Seventh Bride is stripped-down and straightforward\, wasting little space on elaborate scene-setting. That bluntness is appropriate to [the protagonist]’s perspective as an uneducated peasant whose most significant experience of the world involves fighting a bullying swan for her daily lunch. So it’s a surprise that Bride most closely resembles Peter Beagle’s elegant\, poetic novel The Last Unicorn\, with its phantasmagoria of witches\, nobles\, sorcerers\, and great powers. (The two books even share a key image\, in the form of a magical and not entirely physical clock.) Vernon has Beagle’s knack for creating colorful\, instantly memorable characters\, and inhuman creatures capable of inspiring awe and wonder. For that matter\, Vernon sometimes feels like Diana Wynne Jones’ heir\, with her stories of aggrieved heroes trying to bull their way through comic magical chaos.” \n\nWe CAN’T WAIT to talk about this glorious novel with you! To join us\, make sure you’re on the Willow tier or higher on our Patreon!
URL:https://carterhaughschool.com/event/the-january-book-club-the-seventh-bride-by-t-kingfisher/
LOCATION:Crowdcast
CATEGORIES:Book Club
ATTACH;FMTTYPE=image/jpeg:https://carterhaughschool.com/wp-content/uploads/2021/12/seventhbridebookclub.jpg
END:VEVENT
BEGIN:VEVENT
DTSTART;TZID=America/New_York:20211215T190000
DTEND;TZID=America/New_York:20211215T200000
DTSTAMP:20260422T062423
CREATED:20211122T212717Z
LAST-MODIFIED:20211122T213038Z
UID:5496-1639594800-1639598400@carterhaughschool.com
SUMMARY:The December Book Club - Where the Wolf by Sally Rosen Kindred
DESCRIPTION:Our Patreon book club is reading the gorgeous poetry book Where the Wolf by Sally Rosen Kindred this month! Our meeting will be on December 15th\, 2021 at 7PM EDT. As a special bonus\, we’ll be joined by the author herself!  \n\n“These poems explore how stories—fairy tales\, family memories\, myths\, and dreams—tell us\, and let us tell each other\, who we are\, and what’s wild and sacred in our connections. From “the beast your mother made/ who scans hood and bed\,” to the ghost-guard summoned by a child on the night her family fractures\, to the teenage son who transforms into “beauty\, his dread-body\,” the beings in these poems are themselves stories\, spells: alchemized through language\, always becoming\, bearing hope and loss. They fragment in anxiety\, and form into new wilderness. They open themselves to reconstruction\, redemption.” – Diode Editions  \n\nCheck Patreon for the link to join us if you’ve pledged at a $7+ tier!
URL:https://carterhaughschool.com/event/the-december-book-club-where-the-wolf-by-sally-rosen-kindred/
LOCATION:Crowdcast
CATEGORIES:Book Club
ATTACH;FMTTYPE=image/jpeg:https://carterhaughschool.com/wp-content/uploads/2021/11/wherethewolfsrk.jpg
END:VEVENT
BEGIN:VEVENT
DTSTART;TZID=America/New_York:20211129T190000
DTEND;TZID=America/New_York:20211129T200000
DTSTAMP:20260422T062423
CREATED:20211106T161801Z
LAST-MODIFIED:20211106T161801Z
UID:5417-1638212400-1638216000@carterhaughschool.com
SUMMARY:The November Book Club - Every Heart a Doorway by Seanan McGuire
DESCRIPTION:Our Patreon book club is reading Every Heart a Doorway by Seanan McGuire this month! Our meeting will be November 29th\, 2021 at 7PM EDT. Check Patreon for the link to join us if you’ve pledged at a $7+ tier!
URL:https://carterhaughschool.com/event/the-november-book-club-every-heart-a-doorway-by-seanan-mcguire/
LOCATION:Crowdcast
CATEGORIES:Book Club
ATTACH;FMTTYPE=image/jpeg:https://carterhaughschool.com/wp-content/uploads/2021/11/everyheart.jpg
END:VEVENT
BEGIN:VEVENT
DTSTART;TZID=America/New_York:20211028T190000
DTEND;TZID=America/New_York:20211028T200000
DTSTAMP:20260422T062423
CREATED:20211005T195012Z
LAST-MODIFIED:20211005T195012Z
UID:5350-1635447600-1635451200@carterhaughschool.com
SUMMARY:The October Book Club - Where the Wild Ladies Are by Aoko Matsuda
DESCRIPTION:Our Patreon book club is reading Where the Wild Ladies Are by Aoko Matsuda translated by Polly Barton this month! Our meeting will be October 28th\, 2021 at 7PM EDT. Check Patreon for the link to join us if you’ve pledged at a $7+ tier!
URL:https://carterhaughschool.com/event/the-october-book-club-where-the-wild-ladies-are-by-aoko-matsuda/
LOCATION:Crowdcast
CATEGORIES:Book Club
ATTACH;FMTTYPE=image/jpeg:https://carterhaughschool.com/wp-content/uploads/2021/10/wildladiesWEB.jpeg
END:VEVENT
BEGIN:VEVENT
DTSTART;TZID=America/New_York:20210923T190000
DTEND;TZID=America/New_York:20210923T200000
DTSTAMP:20260422T062423
CREATED:20210907T153636Z
LAST-MODIFIED:20210907T153636Z
UID:5298-1632423600-1632427200@carterhaughschool.com
SUMMARY:The September Book Club - Beowulf translated by Maria Dahvana Headley
DESCRIPTION:Our Patreon book club is reading Beowulf translated by Maria Dahvana Headley this month! Our meeting will be September 23rd\, 2021 at 7PM EDT. Check Patreon for the link to join us if you’ve pledged at a $7+ tier!
URL:https://carterhaughschool.com/event/the-september-book-club-beowulf-translated-by-maria-dahvana-headley/
LOCATION:Crowdcast
CATEGORIES:Book Club
ATTACH;FMTTYPE=image/jpeg:https://carterhaughschool.com/wp-content/uploads/2021/09/beowulf-cover.jpg
END:VEVENT
BEGIN:VEVENT
DTSTART;TZID=America/New_York:20210809T190000
DTEND;TZID=America/New_York:20210809T200000
DTSTAMP:20260422T062423
CREATED:20210721T195944Z
LAST-MODIFIED:20210721T200029Z
UID:5198-1628535600-1628539200@carterhaughschool.com
SUMMARY:The August Book Club - Kissing the Witch by Emma Donoghue
DESCRIPTION:Our Patreon book club is reading Kissing the Witch by Emma Donoghue this month! Our meeting will be August 9th\, 2021 at 7PM EDT. Check Patreon for the link to join us if you’ve pledged at a $7+ tier!
URL:https://carterhaughschool.com/event/the-august-book-club-kissing-the-witch-by-emma-donoghue/
LOCATION:Crowdcast
CATEGORIES:Book Club
ATTACH;FMTTYPE=image/jpeg:https://carterhaughschool.com/wp-content/uploads/2021/07/kissingthewitchE.jpg
END:VEVENT
BEGIN:VEVENT
DTSTART;TZID=America/New_York:20210715T190000
DTEND;TZID=America/New_York:20210715T200000
DTSTAMP:20260422T062423
CREATED:20210624T153312Z
LAST-MODIFIED:20210624T153354Z
UID:5146-1626375600-1626379200@carterhaughschool.com
SUMMARY:The July Book Club - The Girl Who Circumnavigated Fairyland in a Ship of Her Own Making by Catherynne M. Valente
DESCRIPTION:Our Patreon book club is reading The Girl Who Circumnavigated Fairyland in a Ship of Her Own Making by Catherynne M. Valente this month! Our meeting will be July 15th\, 2021 at 7PM EDT. Check Patreon for the link to join us if you’ve pledged at a $7+ tier! \nA few blurbs to entice you!: \n“A glorious balancing act between modernism and the Victorian Fairy Tale\, done with heart and wisdom.” ―Neil Gaiman\, Newbery Award–winning author of The Graveyard Book \n“September is a clever\, fun\, stronghearted addition to the ranks of bold\, adventurous girls. Valente’s subversive storytelling is sheer magic.” ―Tamora Pierce\, author of The Immortals series \n“A mad\, toothsome romp of a fairy tale–full of oddments\, whimsy\, and joy.” ―Holly Black\, author of the Spiderwick Chronicles \n“When I saw that this book reminds me simultaneously of E. Nesbit\, James Thurber\, and the late Eva Ibbotson\, I don’t mean to take anything away from its astonishing originality. It’s a charmer from the first page\, managing the remarkable parlay of being at once ridiculously funny and surprisingly suspenseful. Catherynne Valente is a find\, at any age!” ―Peter S. Beagle\, author of The Last Unicorn
URL:https://carterhaughschool.com/event/the-july-book-club-the-girl-who-circumnavigated-fairyland-in-a-ship-of-her-own-making-by-catherynne-m-valente/
LOCATION:Crowdcast
CATEGORIES:Book Club
ATTACH;FMTTYPE=image/jpeg:https://carterhaughschool.com/wp-content/uploads/2021/06/fairyland.jpg
END:VEVENT
BEGIN:VEVENT
DTSTART;TZID=America/New_York:20210616T190000
DTEND;TZID=America/New_York:20210616T200000
DTSTAMP:20260422T062423
CREATED:20210530T223820Z
LAST-MODIFIED:20210530T224224Z
UID:5082-1623870000-1623873600@carterhaughschool.com
SUMMARY:The June Book Club - Gideon the Ninth by Tamsyn Muir
DESCRIPTION:Our Patreon book club is reading Gideon the Ninth by Tamsyn Muir this month! Our meeting will be June 16th\, 2021 at 7PM EDT. Check Patreon for the link to join us if you’ve pledged at a $7+ tier!
URL:https://carterhaughschool.com/event/the-june-book-club-gideon-the-ninth-by-tamsyn-muir/
LOCATION:Crowdcast
CATEGORIES:Book Club
ATTACH;FMTTYPE=image/jpeg:https://carterhaughschool.com/wp-content/uploads/2021/05/gthe9th.jpg
END:VEVENT
BEGIN:VEVENT
DTSTART;TZID=America/New_York:20210513T190000
DTEND;TZID=America/New_York:20210513T190000
DTSTAMP:20260422T062423
CREATED:20210425T183851Z
LAST-MODIFIED:20210425T192319Z
UID:4954-1620932400-1620932400@carterhaughschool.com
SUMMARY:The May Book Club - Snow White Learns Witchcraft by Theodora Goss
DESCRIPTION:Our Patreon book club is reading Snow White Learns Witchcraft by Theodora Goss this month! Our meeting will be May 13th\, 2021 at 7PM EDT. Check Patreon for the link to join us if you’ve pledged at a $7+ tier!
URL:https://carterhaughschool.com/event/may-book-club-snow-white-learns-witchcraft-by-theodora-goss/
LOCATION:Crowdcast
CATEGORIES:Book Club
ATTACH;FMTTYPE=image/jpeg:https://carterhaughschool.com/wp-content/uploads/2021/04/CHbookclub16by9.jpeg
END:VEVENT
END:VCALENDAR