BEGIN:VCALENDAR
VERSION:2.0
PRODID:-//The Carterhaugh School of Folklore and the Fantastic - ECPv6.15.17//NONSGML v1.0//EN
CALSCALE:GREGORIAN
METHOD:PUBLISH
X-ORIGINAL-URL:https://carterhaughschool.com
X-WR-CALDESC:Events for The Carterhaugh School of Folklore and the Fantastic
REFRESH-INTERVAL;VALUE=DURATION:PT1H
X-Robots-Tag:noindex
X-PUBLISHED-TTL:PT1H
BEGIN:VTIMEZONE
TZID:America/New_York
BEGIN:DAYLIGHT
TZOFFSETFROM:-0500
TZOFFSETTO:-0400
TZNAME:EDT
DTSTART:20240310T070000
END:DAYLIGHT
BEGIN:STANDARD
TZOFFSETFROM:-0400
TZOFFSETTO:-0500
TZNAME:EST
DTSTART:20241103T060000
END:STANDARD
BEGIN:DAYLIGHT
TZOFFSETFROM:-0500
TZOFFSETTO:-0400
TZNAME:EDT
DTSTART:20250309T070000
END:DAYLIGHT
BEGIN:STANDARD
TZOFFSETFROM:-0400
TZOFFSETTO:-0500
TZNAME:EST
DTSTART:20251102T060000
END:STANDARD
BEGIN:DAYLIGHT
TZOFFSETFROM:-0500
TZOFFSETTO:-0400
TZNAME:EDT
DTSTART:20260308T070000
END:DAYLIGHT
BEGIN:STANDARD
TZOFFSETFROM:-0400
TZOFFSETTO:-0500
TZNAME:EST
DTSTART:20261101T060000
END:STANDARD
END:VTIMEZONE
BEGIN:VEVENT
DTSTART;TZID=America/New_York:20250116T190000
DTEND;TZID=America/New_York:20250116T200000
DTSTAMP:20260423T032920
CREATED:20241223T200000Z
LAST-MODIFIED:20241223T200000Z
UID:7690-1737054000-1737057600@carterhaughschool.com
SUMMARY:The January Patreon Fairy-Tale Salon
DESCRIPTION:Hi all! Here is the info for our January Fairy-Tale Salon! \nDate: January 16th\, 2025 \nPrompt: Folklore to Cultivate in the New Year \nQuest: January is traditionally the time to start something new\, and what better new thing to start than some NEW (to you) FOLKLORIC PRACTICES! We maintain that there’s no better way to inject a bit of magic into your life. So what folklore-y stuff do you want to cultivate in the new year? What traditions have you let slip away that you want to bring back? Or\, if you’ve heard about a fun tradition that you want to try\, how can you go about incorporating it for the first time? \nIf you’d like to participate\, just make sure that you’re on the Salonnières tier or higher for the month of January – see you soon!
URL:https://carterhaughschool.com/event/the-january-patreon-fairy-tale-salon-5/
LOCATION:Zoom
CATEGORIES:Salons
ATTACH;FMTTYPE=image/jpeg:https://carterhaughschool.com/wp-content/uploads/2022/11/wintersalon.jpg
END:VEVENT
END:VCALENDAR