BEGIN:VCALENDAR
VERSION:2.0
PRODID:-//The Carterhaugh School of Folklore and the Fantastic - ECPv6.15.17//NONSGML v1.0//EN
CALSCALE:GREGORIAN
METHOD:PUBLISH
X-WR-CALNAME:The Carterhaugh School of Folklore and the Fantastic
X-ORIGINAL-URL:https://carterhaughschool.com
X-WR-CALDESC:Events for The Carterhaugh School of Folklore and the Fantastic
REFRESH-INTERVAL;VALUE=DURATION:PT1H
X-Robots-Tag:noindex
X-PUBLISHED-TTL:PT1H
BEGIN:VTIMEZONE
TZID:America/New_York
BEGIN:DAYLIGHT
TZOFFSETFROM:-0500
TZOFFSETTO:-0400
TZNAME:EDT
DTSTART:20240310T070000
END:DAYLIGHT
BEGIN:STANDARD
TZOFFSETFROM:-0400
TZOFFSETTO:-0500
TZNAME:EST
DTSTART:20241103T060000
END:STANDARD
BEGIN:DAYLIGHT
TZOFFSETFROM:-0500
TZOFFSETTO:-0400
TZNAME:EDT
DTSTART:20250309T070000
END:DAYLIGHT
BEGIN:STANDARD
TZOFFSETFROM:-0400
TZOFFSETTO:-0500
TZNAME:EST
DTSTART:20251102T060000
END:STANDARD
BEGIN:DAYLIGHT
TZOFFSETFROM:-0500
TZOFFSETTO:-0400
TZNAME:EDT
DTSTART:20260308T070000
END:DAYLIGHT
BEGIN:STANDARD
TZOFFSETFROM:-0400
TZOFFSETTO:-0500
TZNAME:EST
DTSTART:20261101T060000
END:STANDARD
END:VTIMEZONE
BEGIN:VEVENT
DTSTART;TZID=America/New_York:20250213T190000
DTEND;TZID=America/New_York:20250213T200000
DTSTAMP:20260423T013535
CREATED:20250205T191612Z
LAST-MODIFIED:20250205T191612Z
UID:7788-1739473200-1739476800@carterhaughschool.com
SUMMARY:The February Patreon Fairy-Tale Salon
DESCRIPTION:Hello everyone! Here is all the information for our February Fairy-Tale Salon – \nDate: February 13th at 7PM ET! \nPrompt: How Do You Want to Show Love? \nQuest: This month\, especially on Valentine’s Day\, we tend to culturally focus on the idea of romantic love… but there are many kinds of love\, and many ways of showing it. What’s your particular “love language\,” and how do you want to show love this month? Is there anyone you especially want to show love to right now? Maybe you have a friend or a family member going through a rough time? Or maybe the person you know who most needs love right now is you – in which case\, how can you show yourself some more love? \nIf you’d like to participate\, just make sure that you’re on the Salonnières tier or higher for the month of February – see you soon!
URL:https://carterhaughschool.com/event/the-february-patreon-fairy-tale-salon-4/
LOCATION:Zoom
CATEGORIES:Salons
ATTACH;FMTTYPE=image/jpeg:https://carterhaughschool.com/wp-content/uploads/2022/11/wintersalon.jpg
END:VEVENT
END:VCALENDAR