BEGIN:VCALENDAR
VERSION:2.0
PRODID:-//The Carterhaugh School of Folklore and the Fantastic - ECPv6.15.17//NONSGML v1.0//EN
CALSCALE:GREGORIAN
METHOD:PUBLISH
X-WR-CALNAME:The Carterhaugh School of Folklore and the Fantastic
X-ORIGINAL-URL:https://carterhaughschool.com
X-WR-CALDESC:Events for The Carterhaugh School of Folklore and the Fantastic
REFRESH-INTERVAL;VALUE=DURATION:PT1H
X-Robots-Tag:noindex
X-PUBLISHED-TTL:PT1H
BEGIN:VTIMEZONE
TZID:America/New_York
BEGIN:DAYLIGHT
TZOFFSETFROM:-0500
TZOFFSETTO:-0400
TZNAME:EDT
DTSTART:20250309T070000
END:DAYLIGHT
BEGIN:STANDARD
TZOFFSETFROM:-0400
TZOFFSETTO:-0500
TZNAME:EST
DTSTART:20251102T060000
END:STANDARD
BEGIN:DAYLIGHT
TZOFFSETFROM:-0500
TZOFFSETTO:-0400
TZNAME:EDT
DTSTART:20260308T070000
END:DAYLIGHT
BEGIN:STANDARD
TZOFFSETFROM:-0400
TZOFFSETTO:-0500
TZNAME:EST
DTSTART:20261101T060000
END:STANDARD
BEGIN:DAYLIGHT
TZOFFSETFROM:-0500
TZOFFSETTO:-0400
TZNAME:EDT
DTSTART:20270314T070000
END:DAYLIGHT
BEGIN:STANDARD
TZOFFSETFROM:-0400
TZOFFSETTO:-0500
TZNAME:EST
DTSTART:20271107T060000
END:STANDARD
END:VTIMEZONE
BEGIN:VEVENT
DTSTART;TZID=America/New_York:20260113T190000
DTEND;TZID=America/New_York:20260113T200000
DTSTAMP:20260423T065436
CREATED:20251216T215346Z
LAST-MODIFIED:20251216T215346Z
UID:8325-1768330800-1768334400@carterhaughschool.com
SUMMARY:The January Patreon Fairy-Tale Salon
DESCRIPTION:Hi everyone! Here is the info for our January Fairy-Tale Salon – \nDate: January 13th at 7PM ET \nPrompt: New Beginnings \nQuest: January is a time for new beginnings and making plans. So we want to know – what are you most looking forward to in 2026? Do you have a trip coming up? Did you finally sign up for those piano lessons you’ve always wanted? Is your first ever book coming out? We can’t wait to hear about it! (And no\, it doesn’t have to be especially folklore-y\, though of course it’s fun if it is!) We want to start the year off with some happy\, anticipatory energy and get into the mindset of making 2026 the best it can be! \nIf you’d like to participate\, make sure that you’re on the Salonnières tier or higher on Patreon for the month of January – looking forward to seeing you there!
URL:https://carterhaughschool.com/event/the-january-patreon-fairy-tale-salon-6/
LOCATION:Zoom
CATEGORIES:Salons
ATTACH;FMTTYPE=image/jpeg:https://carterhaughschool.com/wp-content/uploads/2022/11/wintersalon.jpg
END:VEVENT
BEGIN:VEVENT
DTSTART;TZID=America/New_York:20260219T190000
DTEND;TZID=America/New_York:20260219T200000
DTSTAMP:20260423T065436
CREATED:20260209T162808Z
LAST-MODIFIED:20260209T162808Z
UID:8367-1771527600-1771531200@carterhaughschool.com
SUMMARY:The February Patreon Fairy-Tale Salon
DESCRIPTION:Hi all! Here is the info for our February Fairy-Tale Salon (we apologize that this info is coming out a bit later than usual!) – \nDate: February 19th at 7PM ET \nPrompt: Embracing the Weird \nQuest: Has anything really weird\, or unexplainable\, or even straight up supernatural ever happened to you? Have you ever followed an intuition that worked out fantastically\, had an odd encounter you couldn’t really explain away\, or had something happen to you that made you say “well\, THAT was weird!” We want to hear all about it! If you can’t think of anything\, we encourage you to go back to an older prompt of ours about small world stories: small world stories are unexpected encounters and connections that make you think “wow\, what a small world” like running into your 8th grade teacher while on vacation in a different country or finding out you and your future husband attended the same birthday party when you were six years old\, that kind of thing. That absolutely works for this prompt too! \nIf you’d like to participate\, make sure that you’re on the Salonnières tier or higher on Patreon for the month of February – looking forward to seeing you there!
URL:https://carterhaughschool.com/event/the-february-patreon-fairy-tale-salon-5/
LOCATION:Zoom
CATEGORIES:Salons
ATTACH;FMTTYPE=image/jpeg:https://carterhaughschool.com/wp-content/uploads/2022/11/wintersalon.jpg
END:VEVENT
BEGIN:VEVENT
DTSTART;TZID=America/New_York:20260325T190000
DTEND;TZID=America/New_York:20260325T200000
DTSTAMP:20260423T065436
CREATED:20260304T222928Z
LAST-MODIFIED:20260304T222928Z
UID:8570-1774465200-1774468800@carterhaughschool.com
SUMMARY:The March Patreon Fairy-Tale Salon
DESCRIPTION:Hi all\, here is all the information for our March Fairy-Tale Salon! \nDate: March 25th\, 2026 at 7PM ET! \nPrompt: The Funniest Thing You’ve Encountered This Month \nQuest: This March is seriously in need of some humor\, so your salon quest is to share the funniest thing you’ve encountered this month – tell us about a joke that absolutely cracked you up\, a cat t-shirt you had to buy immediately because you couldn’t stop giggling about it\, the most spot-on perfect meme\, a show you saw that you’re still laughing about days later\, and/or a book you re-read whenever you need a good chuckle. If it made you laugh recently\, we want to hear about it!  \nIf you’d like to participate\, just make sure that you’re on the Salonnières tier or higher for the month of March – see you soon!
URL:https://carterhaughschool.com/event/the-march-patreon-fairy-tale-salon-5/
LOCATION:Zoom
CATEGORIES:Salons
ATTACH;FMTTYPE=image/jpeg:https://carterhaughschool.com/wp-content/uploads/2021/04/CHsalons16by9.jpeg
END:VEVENT
BEGIN:VEVENT
DTSTART;TZID=America/New_York:20260422T190000
DTEND;TZID=America/New_York:20260422T200000
DTSTAMP:20260423T065436
CREATED:20260406T212042Z
LAST-MODIFIED:20260406T212042Z
UID:8593-1776884400-1776888000@carterhaughschool.com
SUMMARY:The April Patreon Fairy-Tale Salon
DESCRIPTION:Hi all! Here is the info for our April Fairy-Tale Salon –> \nDate: April 22nd\, 2026 \nPrompt: Spring Renewal \nQuest: Spring is officially in bloom\, the plants are coming back to life\, and we’re thinking a lot about renewal. Sometimes what you need isn’t to start something completely new\, but instead to breathe new life into something you already love. For this salon\, we’d love to talk about the things that you’re renewing\, reinvigorating\, and revitalizing. Maybe you’re just getting back into reading poetry\, or you’ve vowed to nudge a little life back into your neglected vegetable garden. Maybe you want to reconnect with an old friend! Tell us what you’re doing to bring the energy of spring renewal into your life this month.  \nIf you’d like to participate\, just make sure that you’re on the Salonnières tier or higher for the month of April – see you soon!
URL:https://carterhaughschool.com/event/the-april-patreon-fairy-tale-salon-5/
LOCATION:Zoom
CATEGORIES:Salons
ATTACH;FMTTYPE=image/jpeg:https://carterhaughschool.com/wp-content/uploads/2026/04/NewDFTSalon.jpg
END:VEVENT
END:VCALENDAR