BEGIN:VCALENDAR
VERSION:2.0
PRODID:-//The Carterhaugh School of Folklore and the Fantastic - ECPv6.15.17//NONSGML v1.0//EN
CALSCALE:GREGORIAN
METHOD:PUBLISH
X-ORIGINAL-URL:https://carterhaughschool.com
X-WR-CALDESC:Events for The Carterhaugh School of Folklore and the Fantastic
REFRESH-INTERVAL;VALUE=DURATION:PT1H
X-Robots-Tag:noindex
X-PUBLISHED-TTL:PT1H
BEGIN:VTIMEZONE
TZID:America/New_York
BEGIN:DAYLIGHT
TZOFFSETFROM:-0500
TZOFFSETTO:-0400
TZNAME:EDT
DTSTART:20200308T070000
END:DAYLIGHT
BEGIN:STANDARD
TZOFFSETFROM:-0400
TZOFFSETTO:-0500
TZNAME:EST
DTSTART:20201101T060000
END:STANDARD
BEGIN:DAYLIGHT
TZOFFSETFROM:-0500
TZOFFSETTO:-0400
TZNAME:EDT
DTSTART:20210314T070000
END:DAYLIGHT
BEGIN:STANDARD
TZOFFSETFROM:-0400
TZOFFSETTO:-0500
TZNAME:EST
DTSTART:20211107T060000
END:STANDARD
BEGIN:DAYLIGHT
TZOFFSETFROM:-0500
TZOFFSETTO:-0400
TZNAME:EDT
DTSTART:20220313T070000
END:DAYLIGHT
BEGIN:STANDARD
TZOFFSETFROM:-0400
TZOFFSETTO:-0500
TZNAME:EST
DTSTART:20221106T060000
END:STANDARD
BEGIN:DAYLIGHT
TZOFFSETFROM:-0500
TZOFFSETTO:-0400
TZNAME:EDT
DTSTART:20230312T070000
END:DAYLIGHT
BEGIN:STANDARD
TZOFFSETFROM:-0400
TZOFFSETTO:-0500
TZNAME:EST
DTSTART:20231105T060000
END:STANDARD
END:VTIMEZONE
BEGIN:VEVENT
DTSTART;TZID=America/New_York:20220330T190000
DTEND;TZID=America/New_York:20220330T200000
DTSTAMP:20260422T074334
CREATED:20220301T000645Z
LAST-MODIFIED:20220326T182906Z
UID:5692-1648666800-1648670400@carterhaughschool.com
SUMMARY:The March Patreon Fairy-Tale Salon
DESCRIPTION:Hi all! Here is the info for our March Fairy-Tale Salon! \nDate: March 28th at 7PM ET! RESCHEDULED TO MARCH 30TH AT 7PM ET! \nPrompt: Animals in Fairy Tales \nQuest: This month we’re going to be thinking about animals in fairy tales. Are their any fairy-tale animals that hold a special place in your heart? Where do you see animals help or hinder a story? What do you think they represent in your favorite tale?  Feel free to use fables (typically full of animals!) and other kinds of folk literature as well for this one! \nIf you’d like to participate\, just make sure that you’re on the Salonnières tier or higher for the month of March – see you soon!
URL:https://carterhaughschool.com/event/the-march-patreon-fairy-tale-salon/
LOCATION:Zoom
CATEGORIES:Salons
ATTACH;FMTTYPE=image/jpeg:https://carterhaughschool.com/wp-content/uploads/2021/04/CHsalons16by9.jpeg
END:VEVENT
BEGIN:VEVENT
DTSTART;TZID=America/New_York:20220227T190000
DTEND;TZID=America/New_York:20220227T200000
DTSTAMP:20260422T074334
CREATED:20220218T231712Z
LAST-MODIFIED:20220218T231712Z
UID:5672-1645988400-1645992000@carterhaughschool.com
SUMMARY:The February Patreon Fairy-Tale Salon
DESCRIPTION:Hi all! Here is the info for February’s Salon! \nDate: February 27th at 7PM ET! \nPrompt: What is your favorite fairy-tale love story? \nQuest: For this most romantic of months\, we’re asking you to tell us your favorite fairy-tale love story. Now\, we’re well aware that most of the traditional fairy tales feature pretty bad romances (cue Lady Gaga)\, but expand your thinking to include adaptations\, fairy-tale-like stories\, and new fairy tales. What makes a good love story to you? What’s an absolute dealbreaker (aside from\, you know\, Bluebeard-esque tales where wives get murdered!)? \nIf you’d like to participate\, just make sure that you’re on the Salonnières tier or higher for the month of February – see you soon!
URL:https://carterhaughschool.com/event/the-february-patreon-fairy-tale-salon/
LOCATION:Zoom
CATEGORIES:Salons
ATTACH;FMTTYPE=image/jpeg:https://carterhaughschool.com/wp-content/uploads/2021/04/CHsalons16by9.jpeg
END:VEVENT
BEGIN:VEVENT
DTSTART;TZID=America/New_York:20220126T190000
DTEND;TZID=America/New_York:20220126T200000
DTSTAMP:20260422T074334
CREATED:20211222T213152Z
LAST-MODIFIED:20211222T213152Z
UID:5547-1643223600-1643227200@carterhaughschool.com
SUMMARY:The January Patreon Fairy-Tale Salon
DESCRIPTION:January Salon: \n\nHi all\, here is the info for Salon #10! \n\nDate: January 26th\, 2022 at 7PM ET \n\nPrompt: How do you make January magical? \n\nQuest: January has always felt like the least magical month to us (no offense\, Capricorns!) The enchantment of the holidays is over and it’s back to work\, the skies are grey\, and there’s a chill in the air that you just can’t seem to shake. So we want to know – what do you do to bring a little magic into the first month of the new year? Is there anything special that injects a bit of spark into your step? We want to hear all about it! \n\nIf you’d like to participate\, just make sure that you’re on the Salonnières tier or higher for the month of January! See you on the 26th!
URL:https://carterhaughschool.com/event/the-january-patreon-fairy-tale-salon/
LOCATION:Zoom
CATEGORIES:Salons
ATTACH;FMTTYPE=image/jpeg:https://carterhaughschool.com/wp-content/uploads/2021/04/CHsalons16by9.jpeg
END:VEVENT
BEGIN:VEVENT
DTSTART;TZID=America/New_York:20211212T190000
DTEND;TZID=America/New_York:20211212T200000
DTSTAMP:20260422T074334
CREATED:20211130T204412Z
LAST-MODIFIED:20211130T204412Z
UID:5505-1639335600-1639339200@carterhaughschool.com
SUMMARY:The December Patreon Fairy-Tale Salon
DESCRIPTION:Salon #9! Let’s do this! \nDate: December 12th at 7PM ET! \nPrompt: Holiday Traditions and Rituals! \nQuest: December is full of major holidays but also has room for “little traditions” that are unique to you/ your family/ your friend-group. There are so many ways to celebrate the season\, from religious ceremonies to clicking champagne glasses to making that one dish your family HAS to make to reading a book on Christmas Eve. For this month’s salon\, we’d love to hear about one wintery tradition or ritual that’s important to you\, no matter how big and official or informal and personal. (Sara will be telling you about her (Jewish) family’s tradition of CHRISTMAS CREPES.) \nIf you’d like to participate\, just make sure that you’re on the Salonnières tier or higher for the month of December!  \nSee you on the 12th!
URL:https://carterhaughschool.com/event/the-december-patreon-fairy-tale-salon/
LOCATION:Zoom
CATEGORIES:Salons
ATTACH;FMTTYPE=image/jpeg:https://carterhaughschool.com/wp-content/uploads/2021/04/CHsalons16by9.jpeg
END:VEVENT
BEGIN:VEVENT
DTSTART;TZID=America/New_York:20211118T190000
DTEND;TZID=America/New_York:20211118T210000
DTSTAMP:20260422T074334
CREATED:20211106T162228Z
LAST-MODIFIED:20211106T162228Z
UID:5421-1637262000-1637269200@carterhaughschool.com
SUMMARY:The November Patreon Digital Fairy-Tale Salon
DESCRIPTION:November Salon: Fairy-Tale Food! \nHi all\, here is the info for our November salon! \nDate: November 18th at 7PM ET \nPrompt: The holiday season approaches\, so of course we’re thinking about food. So the topic this month is fairy-tale food\, or fairy food. Please interpret this broadly! Is there a recipe you make\, seasonally or whenever the mood strikes\, that feels magical to you? Is there a fairy tale that features magic food in a way that interests or confuses or entrances you? Do you want to talk about the dangers and compulsions of fairy food?  \nQuest: Bring a story or a recipe or a question (plus maybe a magical snack or drink of your choice) and let’s celebrate! \nIf you’d like to participate\, just make sure that you’re on the Salonnières tier or higher for the month of November! See you on the 18th! :).
URL:https://carterhaughschool.com/event/the-november-patreon-digital-fairy-tale-salon/
LOCATION:Zoom
CATEGORIES:Salons
ATTACH;FMTTYPE=image/jpeg:https://carterhaughschool.com/wp-content/uploads/2021/04/CHsalons16by9.jpeg
END:VEVENT
BEGIN:VEVENT
DTSTART;TZID=America/New_York:20211020T190000
DTEND;TZID=America/New_York:20211020T200000
DTSTAMP:20260422T074334
CREATED:20211005T194537Z
LAST-MODIFIED:20211005T194537Z
UID:5348-1634756400-1634760000@carterhaughschool.com
SUMMARY:The October Patreon Fairy-Tale Salon
DESCRIPTION:Hi all! Here is the info for Salon #7 \nDate: October 20th at 7PM EDT! \nPrompt: What’s your scariest fairy-tale memory?  \nQuest: For this most haunted of months\, we’re asking everyone to share their scariest fairy-tale-related memory. This challenge is hugely open to interpretation! For example\, Brittany plans to talk about one of the most horrifying moments of her young childhood – going on the Snow White ride at Disneyworld! What fairy tale scares you the most and why? Why do you think fairy tales can produce such profound fear? Do you like your fairy tales on the creepy side? \nIf you’d like to participate\, just make sure that you’re on the Salonnières tier or higher for the month of October! See you on the 20th :).
URL:https://carterhaughschool.com/event/the-october-patreon-fairy-tale-salon/
LOCATION:Zoom
CATEGORIES:Salons
ATTACH;FMTTYPE=image/jpeg:https://carterhaughschool.com/wp-content/uploads/2021/04/CHsalons16by9.jpeg
END:VEVENT
BEGIN:VEVENT
DTSTART;TZID=America/New_York:20210927T190000
DTEND;TZID=America/New_York:20210927T200000
DTSTAMP:20260422T074334
CREATED:20210907T152741Z
LAST-MODIFIED:20210907T152741Z
UID:5296-1632769200-1632772800@carterhaughschool.com
SUMMARY:The September Patreon Fairy-Tale Salon
DESCRIPTION:September Salon: \nHi all\, here is the info for Salon #6! \nDate: September 27th at 7PM EDT! \nPrompt: Find a fairy tale that is new to you!  \nQuest: For this month\, we’re asking everyone to look through their fairy-tale books/the Internet and find a tale that they’ve never heard before or don’t remember well. What’s it about? Why do you think this tale has escaped your notice until now? What drew you to read it? What do you like or dislike about it?  \nIf you’d like to participate\, just make sure that you’re on the Salonnières tier or higher for the month of September! See you on the 27th :).
URL:https://carterhaughschool.com/event/the-september-patreon-fairy-tale-salon/
LOCATION:Zoom
CATEGORIES:Salons
ATTACH;FMTTYPE=image/jpeg:https://carterhaughschool.com/wp-content/uploads/2021/04/CHsalons16by9.jpeg
END:VEVENT
BEGIN:VEVENT
DTSTART;TZID=America/New_York:20210826T190000
DTEND;TZID=America/New_York:20210826T200000
DTSTAMP:20260422T074334
CREATED:20210809T180754Z
LAST-MODIFIED:20210809T180754Z
UID:5266-1630004400-1630008000@carterhaughschool.com
SUMMARY:The August Patreon Fairy-Tale Salon
DESCRIPTION:August Salon: Fairy-Tale Poetry \nHi all\, here is the info for Salon #5! \nDate: August 26th at 7PM EDT! \nPrompt: After running Carmina this month\, we’re still awash in our love of fairy-tale poetry…and we want to hear about your favorite piece!  \nQuest: What’s your very\, very favorite fairy-tale poem? What sets your heart alight when you read it? What encompasses the magic of what fairy tales mean to you? Please select one (or two!) favorite fairy-tale poems and bring them to the salon to read to us! And think about why you love it so much and how it speaks to you.Maybe it’s a poem by Theodora Goss or Catherynne Valente or Neil Gaiman…or maybe it’s one that you wrote yourself or that you heard from another Carterhaugh student at Carmina :). \nIf you don’t have a favorite piece already\, check out the archives at Liminality Magazine (http://www.liminalitypoetry.com/)\, Enchanted Conversation (https://www.fairytalemagazine.com/) or Uncanny Magazine (https://uncannymagazine.com/type/poetry/) for inspiration! \nIf you’d like to participate\, just make sure that you’re on the Salonnières tier or higher for the month of August! See you on the 26th :).
URL:https://carterhaughschool.com/event/the-august-patreon-fairy-tale-salon/
LOCATION:Zoom
CATEGORIES:Salons
ATTACH;FMTTYPE=image/jpeg:https://carterhaughschool.com/wp-content/uploads/2021/04/CHsalons16by9.jpeg
END:VEVENT
BEGIN:VEVENT
DTSTART;TZID=America/New_York:20210728T190000
DTEND;TZID=America/New_York:20210728T210000
DTSTAMP:20260422T074334
CREATED:20210721T200342Z
LAST-MODIFIED:20210721T200342Z
UID:5201-1627498800-1627506000@carterhaughschool.com
SUMMARY:The August Patreon Digital Fairy-Tale Salon
DESCRIPTION:July Salon: Fantasy Fairy-Tale Films! \nHi all\, here is the info for Salon #4! \nDate: July 28th at 7PM EDT! \nPrompt: This month’s prompt is a suggestion from Salonnière Heidi Lively! She says\, “You are making a film of the fairy tale of your choice. Which actors would you choose? Locations? Costumes?”  \nQuest: Imagine your dream film…and tell us why it matters! What tale would you choose\, and why would it be especially wonderful translated as a film? What would the medium of film enhance or allow you to do with this story? Get ready to paint a picture of what you’d love to see in your wildest cinematic dreams! \nIf you’d like to participate\, just make sure that you’re on the Salonnières tier or higher for the month of July! See you on the 28th! :).
URL:https://carterhaughschool.com/event/the-august-patreon-digital-fairy-tale-salon/
LOCATION:Zoom
CATEGORIES:Salons
ATTACH;FMTTYPE=image/jpeg:https://carterhaughschool.com/wp-content/uploads/2021/04/CHsalons16by9.jpeg
END:VEVENT
BEGIN:VEVENT
DTSTART;TZID=America/New_York:20210630T190000
DTEND;TZID=America/New_York:20210630T210000
DTSTAMP:20260422T074334
CREATED:20210531T185341Z
LAST-MODIFIED:20210531T185341Z
UID:5085-1625079600-1625086800@carterhaughschool.com
SUMMARY:The June Patreon Digital Fairy-Tale Salon
DESCRIPTION:June Salon: Shadow Tales \nHi all\, here is the info for Salon #3! \nDate: June 30th at 7PM EDT! \nPrompt: For our first two salons\, we asked you to think about favorite fairy tales or fairy-tale memories that you absolutely love… for Salon #3\, we’re going to ask you to do the opposite. What is your least favorite fairy tale? What about it just grinds your gears? Is your hatred influenced by Disney or another adaptation? Why do you think other people like the tale?  \nQuest: Explore your least favorite fairy tale. Re-read the story\, look at illustrations\, journal on your loathing. Consider the fact that this tale may be your “shadow tale” – think about what we might mean by that\, and we’ll explore the concept further at the event! \nIf you’d like to participate\, just make sure that you’re on the Salonnières tier or higher for the month of June! See you on the 30th! :).
URL:https://carterhaughschool.com/event/the-june-patreon-digital-fairy-tale-salon/
LOCATION:Zoom
CATEGORIES:Salons
ATTACH;FMTTYPE=image/jpeg:https://carterhaughschool.com/wp-content/uploads/2021/04/CHsalons16by9.jpeg
END:VEVENT
BEGIN:VEVENT
DTSTART;TZID=America/New_York:20210530T190000
DTEND;TZID=America/New_York:20210530T210000
DTSTAMP:20260422T074334
CREATED:20210425T194657Z
LAST-MODIFIED:20210506T164950Z
UID:4987-1622401200-1622408400@carterhaughschool.com
SUMMARY:The May Patreon Digital Fairy-Tale Salon
DESCRIPTION:Our May Patreon Digital Fairy-Tale Salon will be held on May 30th at 7PM. Our theme is “Fairy-Tale Memories” – check the patron-only post here for more details (and the quest!)
URL:https://carterhaughschool.com/event/the-may-patreon-digital-fairy-tale-salon/
LOCATION:Zoom
CATEGORIES:Salons
ATTACH;FMTTYPE=image/jpeg:https://carterhaughschool.com/wp-content/uploads/2021/04/CHsalons16by9.jpeg
END:VEVENT
BEGIN:VEVENT
DTSTART;TZID=America/New_York:20210427T190000
DTEND;TZID=America/New_York:20210427T210000
DTSTAMP:20260422T074334
CREATED:20210425T184535Z
LAST-MODIFIED:20210426T164401Z
UID:4960-1619550000-1619557200@carterhaughschool.com
SUMMARY:The April Patreon Digital Fairy-Tale Salon
DESCRIPTION:Our first digital Fairy-Tale Salon is happening on April 27th at 7PM EDT!  \nWe’d love for you to join us. If you want to give it a try\, make sure you’re signed up for our Salonnières tier or higher – you can always adjust your tier from month to month\, depending on your schedule or interest in the salon topic! \nPrompt: What is the fairy tale (or legend or folk tale) that best describes your own life? What tale resonates all the way down to your bones? What story do you turn to (or will you turn to) to make sense of the events that befall you and the choices that you make? Has your selection changed over the past year? \nQuest: For our first salon\, please bring an object that represents this story\, your story\, to you. It can be anything – a tea cup\, a concert ticket stub\, a piece of jewelry\, a favorite pen – as long as it contains some part of that tale. We’d love to hear about both – your tale and the object that has become its talisman to you.  \nBonus Quest: Choose an outfit that reflects that fairy tale! Anything from a themed t-shirt to an actual crown or anything in between. \nIf you have any questions\, please email us at carterhaughschool@gmail.com! We can’t wait!
URL:https://carterhaughschool.com/event/the-april-patreon-digital-fairy-tale-salon/
LOCATION:Zoom
CATEGORIES:Salons
ATTACH;FMTTYPE=image/jpeg:https://carterhaughschool.com/wp-content/uploads/2021/04/CHsalons16by9.jpeg
END:VEVENT
END:VCALENDAR